BEGIN:VCALENDAR
VERSION:2.0
PRODID:-//ChamberMaster//Event Calendar 2.0//EN
METHOD:PUBLISH
X-PUBLISHED-TTL:P3D
REFRESH-INTERVAL:P3D
CALSCALE:GREGORIAN
BEGIN:VEVENT
DTSTART:20260707T170000Z
DTEND:20260707T190000Z
X-MICROSOFT-CDO-ALLDAYEVENT:FALSE
SUMMARY:GHBA Networking Event
DESCRIPTION:Social/Networking event for GHBA members/Att.
X-ALT-DESC;FMTTYPE=text/html:Social/Networking event for GHBA members/Att.&nbsp\;
LOCATION:
UID:e.2096.4106
SEQUENCE:3
DTSTAMP:20260421T235641Z
URL:http://garlandchamber.chambermaster.com/events/details/ghba-networking-event-4106
END:VEVENT

END:VCALENDAR
